BEGIN:VCALENDAR
VERSION:2.0
PRODID:-//Douglas County Sheriff&#039;s Office (GA) - ECPv6.15.20//NONSGML v1.0//EN
CALSCALE:GREGORIAN
METHOD:PUBLISH
X-ORIGINAL-URL:https://sheriff.douglas.ga.us
X-WR-CALDESC:Events for Douglas County Sheriff&#039;s Office (GA)
REFRESH-INTERVAL;VALUE=DURATION:PT1H
X-Robots-Tag:noindex
X-PUBLISHED-TTL:PT1H
BEGIN:VTIMEZONE
TZID:UTC
BEGIN:STANDARD
TZOFFSETFROM:+0000
TZOFFSETTO:+0000
TZNAME:UTC
DTSTART:20250101T000000
END:STANDARD
END:VTIMEZONE
BEGIN:VEVENT
DTSTART;TZID=UTC:20260715T090000
DTEND;TZID=UTC:20260717T150000
DTSTAMP:20260423T224052
CREATED:20260420T145443Z
LAST-MODIFIED:20260420T145443Z
UID:11615-1784106000-1784300400@sheriff.douglas.ga.us
SUMMARY:Kids Law Enforcement Academy Summer Camp
DESCRIPTION:🚔 Kids Law Enforcement Academy (KLEA) — Summer Camp 2026\nEver wonder what it’s really like to work in law enforcement? Now your child can find out — up close and in person!\nThe Douglas County Sheriff’s Office is excited to invite upcoming 5th\, 6th\, and 7th grade students to our Kids Law Enforcement Academy (KLEA) — a FREE\, three-day summer camp packed with hands-on activities\, real deputies\, and a behind-the-scenes look at how we serve and protect Douglas County. \n📅 Dates: Wednesday\, July 15 – Friday\, July 17\n🕘 Time: 9:00 AM – 3:00 PM daily\n📍 Location: Douglas County Sheriff’s Office \nWhat’s in store:\n🐕 K-9 demonstration\n🔒 Jail tour\n🏅 Law enforcement-themed games and activities\n…and much more! \nSpace is limited\, so don’t wait — apply today at sheriff.douglas.ga.us/klea.\nThis program is completely FREE to participants.\n📞 Questions? Contact Nicole Moulterie at 678-486-1297 or nmoulterie@sheriff.douglas.ga.us\n#DCSO #DouglasCo #Douglasville #KLEA #SummerCamp #CommunityFirst
URL:https://sheriff.douglas.ga.us/event/kids-law-enforcement-academy-summer-camp/
CATEGORIES:SCOPE
ATTACH;FMTTYPE=image/jpeg:https://sheriff.douglas.ga.us/wp-content/uploads/2026/04/KLEAClass_2024_FBEvent.jpg
END:VEVENT
BEGIN:VEVENT
DTSTART;TZID=UTC:20260806T180000
DTEND;TZID=UTC:20260806T200000
DTSTAMP:20260423T224052
CREATED:20260407T132751Z
LAST-MODIFIED:20260407T132751Z
UID:11585-1786039200-1786046400@sheriff.douglas.ga.us
SUMMARY:Citizens Law Enforcement Academy (CLEA)
DESCRIPTION:🚔 Join the Citizens Law Enforcement Academy! 🚔\n\n\n \n\n\nEver wondered what it takes to serve and protect? Now’s your chance to step inside the world of law enforcement!\n\n\n \n\n\nThe Citizens Law Enforcement Academy (CLEA) kicks off Thursday\, August 6th\, 2026\, and runs every Thursday for 15 weeks.\n\n\n \n\n\n🔹 Dive into topics like criminal law\, ethics\, use of force\, search and seizure\n\n\n🔹 Experience a ride-along with a deputy\n\n\n🔹 Enjoy dinner before each class\n\n\n🔹 Limited spots available—only 30 students can join!\n\n\n \n\n\n📢 Don’t wait—secure your spot today!\n\n\n🔗 Register or learn more here: https://sheriff.douglas.ga.us/clea\n\n\n#CLEA #CitizensAcademy #CommunityEngagement #DCSO
URL:https://sheriff.douglas.ga.us/event/citizens-law-enforcement-academy-clea/
LOCATION:Douglas County Sheriff’s Office\, 8470 Earl D. Lee Blvd\, Douglasville\, GA\, 30134\, United States
CATEGORIES:SCOPE
ATTACH;FMTTYPE=image/jpeg:https://sheriff.douglas.ga.us/wp-content/uploads/2026/04/CLEA_SMLand_Fall2026@2x-80.jpg
END:VEVENT
END:VCALENDAR