BEGIN:VCALENDAR
VERSION:2.0
PRODID:-//Douglas County Sheriff&#039;s Office (GA) - ECPv6.15.20//NONSGML v1.0//EN
CALSCALE:GREGORIAN
METHOD:PUBLISH
X-WR-CALNAME:Douglas County Sheriff&#039;s Office (GA)
X-ORIGINAL-URL:https://sheriff.douglas.ga.us
X-WR-CALDESC:Events for Douglas County Sheriff&#039;s Office (GA)
REFRESH-INTERVAL;VALUE=DURATION:PT1H
X-Robots-Tag:noindex
X-PUBLISHED-TTL:PT1H
BEGIN:VTIMEZONE
TZID:UTC
BEGIN:STANDARD
TZOFFSETFROM:+0000
TZOFFSETTO:+0000
TZNAME:UTC
DTSTART:20250101T000000
END:STANDARD
END:VTIMEZONE
BEGIN:VEVENT
DTSTART;TZID=UTC:20260516T090000
DTEND;TZID=UTC:20260516T150000
DTSTAMP:20260424T000301
CREATED:20260420T143607Z
LAST-MODIFIED:20260420T143607Z
UID:11613-1778922000-1778943600@sheriff.douglas.ga.us
SUMMARY:The Annual Catfish Rodeo
DESCRIPTION:FREE FISHING FOR GRADE SCHOOL KIDS THROUGH MIDDLE SCHOOL!! Come to the 23rd annual Catfish Rodeo\, hosted by State Representative Roger Bruce and Sheriff Tim Pounds. The event will go from 9 AM to 3 PM at Sweetwater Creek State Park\, 1750 Mt. Vernon Rd\, Lithia Springs. Sheriff Tim Pounds and the Douglas County Sheriff’s Office will be hosting a FREE fish fry\, with plenty of other treats available. Enjoy a day of fun\, music\, and games! We look forward to seeing you there.
URL:https://sheriff.douglas.ga.us/event/the-annual-catfish-rodeo/
ATTACH;FMTTYPE=image/jpeg:https://sheriff.douglas.ga.us/wp-content/uploads/2026/04/CatfishRodeo2026-2.jpg
END:VEVENT
BEGIN:VEVENT
DTSTART;TZID=UTC:20260502T100000
DTEND;TZID=UTC:20260502T140000
DTSTAMP:20260424T000301
CREATED:20260407T141449Z
LAST-MODIFIED:20260407T141449Z
UID:11591-1777716000-1777730400@sheriff.douglas.ga.us
SUMMARY:Mirror Lake Neighborhood Cookout
DESCRIPTION:Join Sheriff Tim Pounds and District 4 Commissioner Mark Alcarez at the Mirror Lake Community Cookout! Swing by Lifegate Church at 501 Permian Way on Saturday\, May 2nd\, anytime from 10 AM to 2 PM. Dive into delicious hamburgers\, hot dogs\, chips\, and refreshing drinks. Plus\, enjoy lively music\, bounce houses for the kids\, and cornhole for endless fun! We can’t wait to see you there!
URL:https://sheriff.douglas.ga.us/event/mirror-lake-neighborhood-cookout/
LOCATION:LifeGate Church\, 501 Permian Way\, Villa Rica\, GA\, 30180\, United States
CATEGORIES:SCOPE
ATTACH;FMTTYPE=image/jpeg:https://sheriff.douglas.ga.us/wp-content/uploads/2026/04/SS3_MirrorLakeCookout.jpg
END:VEVENT
END:VCALENDAR